BEGIN:VCALENDAR
VERSION:2.0
METHOD:PUBLISH
PRODID:-//Accessible Web Design//My Calendar//http://www.joedolson.com//v//EN';
BEGIN:VEVENT
UID:13-12
LOCATION:
SUMMARY:Unleashing the value of smart charging in buildings
DTSTAMP:20210928T110000
ORGANIZER;CN=Mya Belden:MAILTO:mya.belden@lgi-consulting.com
DTSTART:20210928T110000
DTEND:20210928T120000
CATEGORIES:European Events
URL;VALUE=URI:https://www.eventbrite.com/e/unleashing-the-value-of-smart-charging-in-buildings-registration-162535633455
DESCRIPTION;ENCODING=QUOTED-PRINTABLE:This event is organised by smartEn in partnership with Power2Drive.On our path towards climate neutrality, clean electrification of end-use sectors and, in particular, of the transport and building sectors will play a crucial role. This inevitably brings important changes to the way the electricity system functions as it will need to become more flexible to support the increase of variable renewable energy in a reliable and cost-effective way.There is where electric vehicles can play a significant role. If done smartly, charging can turn electric vehicles into Decentralised Energy Resources providing flexibility to the system and supporting consumers’ active participation in the clean energy transition. https://www.eventbrite.com/e/unleashing-the-value-of-smart-charging-in-buildings-registration-162535633455
END:VEVENT
END:VCALENDAR