BEGIN:VCALENDAR
VERSION:2.0
METHOD:PUBLISH
PRODID:-//Accessible Web Design//My Calendar//http://www.joedolson.com//v//EN';
BEGIN:VEVENT
UID:12-11
LOCATION:
SUMMARY:EUSEW 2021 Info Session
DTSTAMP:20210318T110000
ORGANIZER;CN=Mya Belden:MAILTO:mya.belden@lgi-consulting.com
DTSTART:20210318T110000
DTEND:20210318T123000
CATEGORIES:European Events
URL;VALUE=URI:https://register.gotowebinar.com/register/4428634238458415888
DESCRIPTION;ENCODING=QUOTED-PRINTABLE:The info session, hosted by the European Commision’s Executive Agency for SMEs (EASME), Innovation and Networks Executive Agency (INEA) and the Directorate-General for Energy, will take place on Thursday, 18 March at 11.00-12.30. This session will help you to start preparing your contributions for this year’s biggest event dedicated to renewables and efficient use of energy in Europe. The info session includes a run-through of all major EUSEW calls and deadlines as well as the application procedures for the Policy Conference sessions and EUSEW Awards. Agenda: EUSEW 2021 info session • Introduction to the 16th edition • Applying to host a session at the Policy Conference • Applying for the EUSEW Awards • Other elements (Networking Village, Energy Days, partners, promotion) • Upcoming calls and deadlines For those who cannot participate in our live session, we will provide a recording. https://register.gotowebinar.com/register/4428634238458415888
END:VEVENT
END:VCALENDAR