BEGIN:VCALENDAR
VERSION:2.0
METHOD:PUBLISH
PRODID:-//Accessible Web Design//My Calendar//http://www.joedolson.com//v//EN';
BEGIN:VEVENT
UID:10-9
LOCATION:
SUMMARY:EU Sustainable Energy Week
DTSTAMP:20211025
ORGANIZER;CN=Mya Belden:MAILTO:mya.belden@lgi-consulting.com
DTSTART:20211025
DTEND:20211030
CATEGORIES:European Events
URL;VALUE=URI:https://eusew.eu/about-main-programme
DESCRIPTION;ENCODING=QUOTED-PRINTABLE:The EU Sustainable Energy Week (EUSEW) will take place on 25-29 October 2021 under the theme: ‘Towards 2030: Reshaping the European Energy System’.Last year, EUSEW went completely digital and this year you will be able to find us online once again. The event will comprise a 3-day digital policy conference, the EUSEW Awards, the second European Youth Energy Day as well as 1:1 video meetings, virtual stands and other networking activities. Participants will also have access to online side events and Energy Days, digital events taking place all over Europe.Registration will open in September. https://eusew.eu/about-main-programme
X-FUNAMBOL-ALLDAY: 1
X-MICROSOFT-CDO-ALLDAYEVENT: TRUE

END:VEVENT
END:VCALENDAR